BEGIN:VCALENDAR
VERSION:2.0
PRODID:-//Rhode Island Mobile Sportfishermen - ECPv6.15.20//NONSGML v1.0//EN
CALSCALE:GREGORIAN
METHOD:PUBLISH
X-WR-CALNAME:Rhode Island Mobile Sportfishermen
X-ORIGINAL-URL:https://rimsclub.org
X-WR-CALDESC:Events for Rhode Island Mobile Sportfishermen
REFRESH-INTERVAL;VALUE=DURATION:PT1H
X-Robots-Tag:noindex
X-PUBLISHED-TTL:PT1H
BEGIN:VTIMEZONE
TZID:America/New_York
BEGIN:DAYLIGHT
TZOFFSETFROM:-0500
TZOFFSETTO:-0400
TZNAME:EDT
DTSTART:20250309T070000
END:DAYLIGHT
BEGIN:STANDARD
TZOFFSETFROM:-0400
TZOFFSETTO:-0500
TZNAME:EST
DTSTART:20251102T060000
END:STANDARD
BEGIN:DAYLIGHT
TZOFFSETFROM:-0500
TZOFFSETTO:-0400
TZNAME:EDT
DTSTART:20260308T070000
END:DAYLIGHT
BEGIN:STANDARD
TZOFFSETFROM:-0400
TZOFFSETTO:-0500
TZNAME:EST
DTSTART:20261101T060000
END:STANDARD
BEGIN:DAYLIGHT
TZOFFSETFROM:-0500
TZOFFSETTO:-0400
TZNAME:EDT
DTSTART:20270314T070000
END:DAYLIGHT
BEGIN:STANDARD
TZOFFSETFROM:-0400
TZOFFSETTO:-0500
TZNAME:EST
DTSTART:20271107T060000
END:STANDARD
END:VTIMEZONE
BEGIN:VEVENT
DTSTART;TZID=America/New_York:20260502T090000
DTEND;TZID=America/New_York:20260502T130000
DTSTAMP:20260420T070020
CREATED:20250316T143716Z
LAST-MODIFIED:20260315T233233Z
UID:2079-1777712400-1777726800@rimsclub.org
SUMMARY:Clubhouse Cleanup
DESCRIPTION:Getting the clubhouse grounds cleaned up for the season. Bring rakes\, leaf blowers and any other lawn clean up tools to remove leaves\, sticks and other debris.
URL:https://rimsclub.org/event/clubhouse-cleanup/
LOCATION:Rims Clubhouse\, 104 S Woody Hill Rd\, Westerly\, RI\, United States
END:VEVENT
BEGIN:VEVENT
DTSTART;TZID=America/New_York:20260516T100000
DTEND;TZID=America/New_York:20260516T170000
DTSTAMP:20260420T070020
CREATED:20230213T184706Z
LAST-MODIFIED:20260103T144023Z
UID:1595-1778925600-1778950800@rimsclub.org
SUMMARY:Election and Outing
DESCRIPTION:
URL:https://rimsclub.org/event/election-and-outing/
LOCATION:Rims Clubhouse\, 104 S Woody Hill Rd\, Westerly\, RI\, United States
END:VEVENT
BEGIN:VEVENT
DTSTART;TZID=America/New_York:20260523T090000
DTEND;TZID=America/New_York:20260523T130000
DTSTAMP:20260420T070020
CREATED:20260315T233109Z
LAST-MODIFIED:20260315T233109Z
UID:2259-1779526800-1779541200@rimsclub.org
SUMMARY:Cabin Painting
DESCRIPTION:Painting the deck of the cabin
URL:https://rimsclub.org/event/cabin-painting/
LOCATION:Lot 82
END:VEVENT
BEGIN:VEVENT
DTSTART;TZID=America/New_York:20260614T100000
DTEND;TZID=America/New_York:20260614T120000
DTSTAMP:20260420T070020
CREATED:20230214T141809Z
LAST-MODIFIED:20260103T144105Z
UID:1611-1781431200-1781438400@rimsclub.org
SUMMARY:June Monthly Meeting
DESCRIPTION:Transfer of officers\nReview duties\nAppoint committee chairman\nComplete state charter\nAppoint UMAP delegates\nPlan fall beach clean-up
URL:https://rimsclub.org/event/june-monthly-meeting/
LOCATION:Rims Clubhouse\, 104 S Woody Hill Rd\, Westerly\, RI\, United States
END:VEVENT
BEGIN:VEVENT
DTSTART;TZID=America/New_York:20260712T100000
DTEND;TZID=America/New_York:20260712T120000
DTSTAMP:20260420T070020
CREATED:20230214T141907Z
LAST-MODIFIED:20260103T144138Z
UID:1613-1783850400-1783857600@rimsclub.org
SUMMARY:July Monthly Meeting
DESCRIPTION:  \n\nNominate dues committee\nReview new member applications
URL:https://rimsclub.org/event/july-monthly-meeting/
LOCATION:Rims Clubhouse\, 104 S Woody Hill Rd\, Westerly\, RI\, United States
END:VEVENT
BEGIN:VEVENT
DTSTART;TZID=America/New_York:20260809T100000
DTEND;TZID=America/New_York:20260809T120000
DTSTAMP:20260420T070020
CREATED:20230214T151059Z
LAST-MODIFIED:20260103T144214Z
UID:1615-1786269600-1786276800@rimsclub.org
SUMMARY:August Monthly Meeting
DESCRIPTION:Review financial status\nDues committee report
URL:https://rimsclub.org/event/august-monthly-meeting/
LOCATION:Rims Clubhouse\, 104 S Woody Hill Rd\, Westerly\, RI\, United States
END:VEVENT
BEGIN:VEVENT
DTSTART;TZID=America/New_York:20260911T190000
DTEND;TZID=America/New_York:20260911T210000
DTSTAMP:20260420T070020
CREATED:20230214T151146Z
LAST-MODIFIED:20260103T144249Z
UID:1617-1789153200-1789160400@rimsclub.org
SUMMARY:September Monthly Meeting
DESCRIPTION:
URL:https://rimsclub.org/event/september-monthly-meeting/
LOCATION:Rims Clubhouse\, 104 S Woody Hill Rd\, Westerly\, RI\, United States
END:VEVENT
BEGIN:VEVENT
DTSTART;TZID=America/New_York:20261016T190000
DTEND;TZID=America/New_York:20261016T210000
DTSTAMP:20260420T070020
CREATED:20230214T151348Z
LAST-MODIFIED:20260103T143747Z
UID:1619-1792177200-1792184400@rimsclub.org
SUMMARY:October Monthly Meeting
DESCRIPTION:Select the 2026 meeting dates\n2025 Award Ballots in the Newsletter\nReview new member applications\nReview Trailer Storage
URL:https://rimsclub.org/event/october-monthly-meeting/
LOCATION:Rims Clubhouse\, 104 S Woody Hill Rd\, Westerly\, RI\, United States
END:VEVENT
BEGIN:VEVENT
DTSTART;TZID=America/New_York:20261113T190000
DTEND;TZID=America/New_York:20261113T210000
DTSTAMP:20260420T070020
CREATED:20230214T151544Z
LAST-MODIFIED:20260103T143718Z
UID:1621-1794596400-1794603600@rimsclub.org
SUMMARY:November Monthly Meeting
DESCRIPTION:Plan future conservation projects\nStart outing plans for 2025\nElect fishing committee chairman\nAppoint a Nominating Committee
URL:https://rimsclub.org/event/november-monthly-meeting/
LOCATION:Rims Clubhouse\, 104 S Woody Hill Rd\, Westerly\, RI\, United States
END:VEVENT
END:VCALENDAR